BEGIN:VCALENDAR
VERSION:2.0
PRODID:-//Broadway in Tucson - ECPv6.15.20//NONSGML v1.0//EN
CALSCALE:GREGORIAN
METHOD:PUBLISH
X-ORIGINAL-URL:https://broadwayintucson.com
X-WR-CALDESC:Events for Broadway in Tucson
REFRESH-INTERVAL;VALUE=DURATION:PT1H
X-Robots-Tag:noindex
X-PUBLISHED-TTL:PT1H
BEGIN:VTIMEZONE
TZID:America/Phoenix
BEGIN:STANDARD
TZOFFSETFROM:-0700
TZOFFSETTO:-0700
TZNAME:MST
DTSTART:20230101T000000
END:STANDARD
END:VTIMEZONE
BEGIN:VEVENT
DTSTART;VALUE=DATE:20240209
DTEND;VALUE=DATE:20240212
DTSTAMP:20260425T094507
CREATED:20230310T070506Z
LAST-MODIFIED:20231130T030846Z
UID:16410-1707436800-1707695999@broadwayintucson.com
SUMMARY:Chicago
DESCRIPTION:Credit: Jeremy Daniel \n\n\nAfter 25 years\, CHICAGO is still the one musical with everything that makes Broadway shimmy-shake: a universal tale of fame\, fortune\, and all that jazz\, with one show stopping song after another and the most astonishing dancing you’ve ever seen. No wonder CHICAGO has been honored with 6 Tony Awards®\, 2 Olivier Awards\, a Grammy®\, and thousands of standing ovations. As we celebrate our 25th anniversary — you’ve got to come see why the name on everyone’s lips is still…CHICAGO. \n\nPurchase Tickets\nPerformance ScheduleDateStart TimeFriday\, February 98 PMSaturday\, February 102 PMSaturday\, February 108 PMSunday\, February 111 PMSunday\, February 116:30 PM
URL:https://broadwayintucson.com/event/chicago/
LOCATION:Centennial Hall\, 1020 E. University Blvd.\, Tucson\, AZ\, 85721\, United States
CATEGORIES:Program
ATTACH;FMTTYPE=image/jpeg:https://broadwayintucson.com/wp-content/uploads/2023/03/ChicagoTour25th-scaled.jpg
ORGANIZER;CN="Broadway in Tucson":MAILTO:info@broadwayintucson.com
END:VEVENT
END:VCALENDAR