BEGIN:VCALENDAR
VERSION:2.0
PRODID:-//Broadway in Tucson - ECPv6.15.20//NONSGML v1.0//EN
CALSCALE:GREGORIAN
METHOD:PUBLISH
X-WR-CALNAME:Broadway in Tucson
X-ORIGINAL-URL:https://broadwayintucson.com
X-WR-CALDESC:Events for Broadway in Tucson
REFRESH-INTERVAL;VALUE=DURATION:PT1H
X-Robots-Tag:noindex
X-PUBLISHED-TTL:PT1H
BEGIN:VTIMEZONE
TZID:America/Phoenix
BEGIN:STANDARD
TZOFFSETFROM:-0700
TZOFFSETTO:-0700
TZNAME:MST
DTSTART:20240101T000000
END:STANDARD
END:VTIMEZONE
BEGIN:VEVENT
DTSTART;VALUE=DATE:20250520
DTEND;VALUE=DATE:20250526
DTSTAMP:20260423T125447
CREATED:20240322T160032Z
LAST-MODIFIED:20241220T193111Z
UID:16839-1747699200-1748217599@broadwayintucson.com
SUMMARY:MAMMA MIA!
DESCRIPTION:(L to R) Jalynn Steele (Tanya)\, Christine Sherrill (Donna Sheridan)\, and Carly Sakolove (Rosie)\nPhoto by Joan Marcus \n\n\nA mother. A daughter. 3 possible dads.\nAnd a trip down the aisle you’ll never forget!\nSet on a Greek island paradise where the sun always shines\, a tale of love\, friendship\, and identity is beautifully told through the timeless hits of ABBA. On the eve of her wedding\, a daughter’s quest to discover the father she’s never known brings three men from her mother’s past back to the island they last visited decades ago. \nFor nearly 25 years\, people all around the world have fallen in love with the characters\, the story\, and the music that make MAMMA MIA! the ultimate feel-good show. \n\nPurchase Tickets
URL:https://broadwayintucson.com/event/mamma-mia/
LOCATION:Centennial Hall\, 1020 E. University Blvd.\, Tucson\, AZ\, 85721\, United States
CATEGORIES:Program
ATTACH;FMTTYPE=image/jpeg:https://broadwayintucson.com/wp-content/uploads/2024/03/MAMMA-MIA-14.jpg
ORGANIZER;CN="Broadway in Tucson":MAILTO:info@broadwayintucson.com
END:VEVENT
END:VCALENDAR