BEGIN:VCALENDAR
VERSION:2.0
PRODID:-//Broadway in Tucson - ECPv6.15.20//NONSGML v1.0//EN
CALSCALE:GREGORIAN
METHOD:PUBLISH
X-ORIGINAL-URL:https://broadwayintucson.com
X-WR-CALDESC:Events for Broadway in Tucson
REFRESH-INTERVAL;VALUE=DURATION:PT1H
X-Robots-Tag:noindex
X-PUBLISHED-TTL:PT1H
BEGIN:VTIMEZONE
TZID:America/Phoenix
BEGIN:STANDARD
TZOFFSETFROM:-0700
TZOFFSETTO:-0700
TZNAME:MST
DTSTART:20230101T000000
END:STANDARD
END:VTIMEZONE
BEGIN:VEVENT
DTSTART;VALUE=DATE:20241203
DTEND;VALUE=DATE:20241209
DTSTAMP:20260424T031616
CREATED:20240322T163044Z
LAST-MODIFIED:20241206T021421Z
UID:16835-1733184000-1733702399@broadwayintucson.com
SUMMARY:BEETLEJUICE
DESCRIPTION:Pictured (L-R): Will Burton (Adam)\, Megan McGinnis (Barbara)\, Isabella Esler (Lydia) and Justin Collette (Beetlejuice)\nPhoto by Matthew Murphy\, 2024 \n\n\n\n\n\n\n\n\n\n\n\n\n\n\n\n\n\nHe earned his stripes on Broadway… now the ghost-with-the-most is coming to Tucson.\nIt’s showtime! Based on Tim Burton’s dearly beloved film\, this hilarious musical tells the story of Lydia Deetz\, a strange and unusual teenager whose whole life changes when she meets a recently deceased couple and a demon with a thing for stripes. With an irreverent book\, an astonishing set\, and a score that’s out of this Netherworld\, BEETLEJUICE is “SCREAMINGLY GOOD FUN!” (Variety). And under its uproarious surface (six feet under\, to be exact)\, it’s a remarkably touching show about family\, love\, and making the most of every Day-O! \nRecommended for ages 13+. No babes in arms\, everyone must have a ticket. \n\n\n\n\n\n\n\n\n\n\n\n\n\nPurchase Tickets
URL:https://broadwayintucson.com/event/beetlejuice/
LOCATION:Centennial Hall\, 1020 E. University Blvd.\, Tucson\, AZ\, 85721\, United States
CATEGORIES:Program
ATTACH;FMTTYPE=image/jpeg:https://broadwayintucson.com/wp-content/uploads/2024/02/Beetlejuice-3.jpg
ORGANIZER;CN="Broadway in Tucson":MAILTO:info@broadwayintucson.com
END:VEVENT
END:VCALENDAR