BEGIN:VCALENDAR
VERSION:2.0
PRODID:-//Broadway in Tucson - ECPv6.15.20//NONSGML v1.0//EN
CALSCALE:GREGORIAN
METHOD:PUBLISH
X-WR-CALNAME:Broadway in Tucson
X-ORIGINAL-URL:https://broadwayintucson.com
X-WR-CALDESC:Events for Broadway in Tucson
REFRESH-INTERVAL;VALUE=DURATION:PT1H
X-Robots-Tag:noindex
X-PUBLISHED-TTL:PT1H
BEGIN:VTIMEZONE
TZID:America/Phoenix
BEGIN:STANDARD
TZOFFSETFROM:-0700
TZOFFSETTO:-0700
TZNAME:MST
DTSTART:20230101T000000
END:STANDARD
END:VTIMEZONE
BEGIN:VEVENT
DTSTART;VALUE=DATE:20241112
DTEND;VALUE=DATE:20241118
DTSTAMP:20260424T015559
CREATED:20240322T160021Z
LAST-MODIFIED:20241111T170034Z
UID:16833-1731369600-1731887999@broadwayintucson.com
SUMMARY:CLUE
DESCRIPTION:Left (top to bottom): Sarah Hollis as Miss Scarlet\, John Treacy Egan as Colonel Mustard\, Kathy Fitzgerald as Mrs. Peacock\, Donna English as Mrs. White\, Isabelle McCalla as Yvette\, Michael Kostroff as Professor Plum\, Alex Mandell as Mr. Green; right: Mark Price as Wadsworth. Courtesy of Paper Mill Playhouse; photo by Evan Zimmerman/MurphyMade \n\n\n\n\n\n\n\n\n\n\n\n\n\n\nMurder and blackmail are on the menu when six mysterious guests assemble at Boddy Manor for a night they’ll never forget! Was it Mrs. Peacock in the study with the knife? Or was it Colonel Mustard in the library with the wrench? Based on the fan-favorite 1985 Paramount Pictures movie and inspired by the classic Hasbro board game\, CLUE is the ultimate whodunit that will leave you dying of laughter and keep you guessing until the final twist. \nRecommended ages 12+ \n\nPurchase Tickets
URL:https://broadwayintucson.com/event/clue-live-on-stage/
LOCATION:Centennial Hall\, 1020 E. University Blvd.\, Tucson\, AZ\, 85721\, United States
CATEGORIES:Program
ATTACH;FMTTYPE=image/jpeg:https://broadwayintucson.com/wp-content/uploads/2024/10/1-The-Company-of-the-North-American-tour-of-CLUE-photo-by-Evan-Zimmerman-for-MurphyMade-.jpg
ORGANIZER;CN="Broadway in Tucson":MAILTO:info@broadwayintucson.com
END:VEVENT
END:VCALENDAR