BEGIN:VCALENDAR
VERSION:2.0
PRODID:-//Broadway in Tucson - ECPv6.15.20//NONSGML v1.0//EN
CALSCALE:GREGORIAN
METHOD:PUBLISH
X-WR-CALNAME:Broadway in Tucson
X-ORIGINAL-URL:https://broadwayintucson.com
X-WR-CALDESC:Events for Broadway in Tucson
REFRESH-INTERVAL;VALUE=DURATION:PT1H
X-Robots-Tag:noindex
X-PUBLISHED-TTL:PT1H
BEGIN:VTIMEZONE
TZID:America/Phoenix
BEGIN:STANDARD
TZOFFSETFROM:-0700
TZOFFSETTO:-0700
TZNAME:MST
DTSTART:20230101T000000
END:STANDARD
END:VTIMEZONE
BEGIN:VEVENT
DTSTART;VALUE=DATE:20240423
DTEND;VALUE=DATE:20240429
DTSTAMP:20260425T083459
CREATED:20230310T070726Z
LAST-MODIFIED:20231206T010136Z
UID:16417-1713830400-1714348799@broadwayintucson.com
SUMMARY:Hairspray
DESCRIPTION:“You Can’t Stop The Beat” – (center) Caroline Eiseman as “Tracy Turnblad and Company in Hairspray. Photo: Jeremy Daniel. \n\n\nYou Can’t Stop the Beat! HAIRSPRAY\, Broadway’s Tony Award-winning musical comedy phenomenon is back on tour! Join 16-year-old Tracy Turnblad in 1960s Baltimore as she sets out to dance her way onto TV’s most popular show. Can a girl with big dreams (and even bigger hair) change the world? \nFeaturing the beloved score of hit songs including “Welcome to the ‘60s\,” “Good Morning Baltimore” and “You Can’t Stop the Beat\,” HAIRSPRAY is “fresh\, winning\, and deliriously tuneful!” (The New York Times). \nThis all-new touring production reunites Broadway’s award-winning creative team led by Director Jack O’Brien and Choreographer Jerry Mitchell to bring HAIRSPRAY to a new generation of theater audiences. \n\nDon’t miss this “exhilaratingly funny and warm-hearted musical comedy” (The New Yorker).  \n\n\nPurchase Tickets\nPerformance ScheduleDateStart TimeTuesday\, April 237:30 PM Wednesday\, April 247:30 PM Thursday\, April 257:30 PM Friday\, April 268 PMSaturday\, April 272 PM(ASL Interpreted Performance)Saturday\, April 278 PMSunday\, April 281 PMSunday\, April 286:30 PM(Open Caption)
URL:https://broadwayintucson.com/event/hairspray/
LOCATION:Centennial Hall\, 1020 E. University Blvd.\, Tucson\, AZ\, 85721\, United States
CATEGORIES:Program
ATTACH;FMTTYPE=image/jpeg:https://broadwayintucson.com/wp-content/uploads/2023/03/HairsprayHeader.jpg
ORGANIZER;CN="Broadway in Tucson":MAILTO:info@broadwayintucson.com
END:VEVENT
END:VCALENDAR