BEGIN:VCALENDAR
VERSION:2.0
PRODID:-//Broadway in Tucson - ECPv6.15.20//NONSGML v1.0//EN
CALSCALE:GREGORIAN
METHOD:PUBLISH
X-WR-CALNAME:Broadway in Tucson
X-ORIGINAL-URL:https://broadwayintucson.com
X-WR-CALDESC:Events for Broadway in Tucson
REFRESH-INTERVAL;VALUE=DURATION:PT1H
X-Robots-Tag:noindex
X-PUBLISHED-TTL:PT1H
BEGIN:VTIMEZONE
TZID:America/Phoenix
BEGIN:STANDARD
TZOFFSETFROM:-0700
TZOFFSETTO:-0700
TZNAME:MST
DTSTART:20230101T000000
END:STANDARD
END:VTIMEZONE
BEGIN:VEVENT
DTSTART;VALUE=DATE:20240402
DTEND;VALUE=DATE:20240408
DTSTAMP:20260425T064709
CREATED:20230310T070628Z
LAST-MODIFIED:20240205T234341Z
UID:16413-1712016000-1712534399@broadwayintucson.com
SUMMARY:MJ: The Musical
DESCRIPTION:Roman Banks as ‘MJ’ and the cast of the MJ First National Tour. Photo by Matthew Murphy \n\n\nHe is one of the greatest entertainers of all time. Now\, Michael Jackson’s unique and unparalleled artistry comes to Tucson as MJ\, the multi Tony Award®-winning new musical centered around the making of the 1992 Dangerous World Tour\, begins a tour of its own. Created by Tony Award®-winning Director/Choreographer Christopher Wheeldonand two-time Pulitzer Prize winner Lynn Nottage\, MJ goes beyond the singular moves and signature sound of the star\, offering a rare look at the creative mind and collaborative spirit that catapulted Michael Jackson into legendary status. MJ is startin’ somethin’ as it makes its Arizona premiere at the Centennial Hall in April 2024. \nThe MJ creative team features Scenic Design by two-time Tony and Emmy Award winner Derek McLane\, Lighting Design by seven-time Tony Award winner Natasha Katz\, Costume Design by Tony and Emmy Award winner Paul Tazewell\, Sound Design by Tony Award winner Gareth Owen\, Projection Design by two-time Tony Award nominee Peter Nigrini\, and Hair & Wig Design by two-time Emmy Award nominee Charles G. LaPointe. The creative team also features Musical Supervision by Tony Award nominee David Holcenberg\, Orchestrations and Arrangements by David Holcenberg and Tony Award winner Jason Michael Webb\, and Music Direction by Victor Simonson.  Casting by The Telsey Office / Rachel Hoffman\, CSA\, Lindsay Levine\, CSA. \n  \n\n“This is one mind-blowing\, unforgettable production that rocks in every way” \nBUZZ CENTER STAGE \n  \n\nADVISORY LANGUAGE FOR FAMILIES:\nMJ is recommended for ages 8 and up.\nRunning time is 2 hours 30 minutes\, including a 15-minute intermission \n\nPurchase Tickets\nPerformance ScheduleDateStart TimeTuesday\, April 27:30 PMWednesday\, April 37:30 PM Thursday\, April 47:30 PMFriday\, April 58 PMSaturday\, April 62 PM(ASL Interpreted Performance)Saturday\, April 68 PMSunday\, April 71 PMSunday\, April 76:30 PM(Open Caption)
URL:https://broadwayintucson.com/event/mj/
LOCATION:Centennial Hall\, 1020 E. University Blvd.\, Tucson\, AZ\, 85721\, United States
CATEGORIES:Program
ATTACH;FMTTYPE=image/jpeg:https://broadwayintucson.com/wp-content/uploads/2023/03/MJ1.jpg
ORGANIZER;CN="Broadway in Tucson":MAILTO:info@broadwayintucson.com
END:VEVENT
END:VCALENDAR