BEGIN:VCALENDAR
VERSION:2.0
PRODID:-//Broadway in Tucson - ECPv6.15.20//NONSGML v1.0//EN
CALSCALE:GREGORIAN
METHOD:PUBLISH
X-WR-CALNAME:Broadway in Tucson
X-ORIGINAL-URL:https://broadwayintucson.com
X-WR-CALDESC:Events for Broadway in Tucson
REFRESH-INTERVAL;VALUE=DURATION:PT1H
X-Robots-Tag:noindex
X-PUBLISHED-TTL:PT1H
BEGIN:VTIMEZONE
TZID:America/Phoenix
BEGIN:STANDARD
TZOFFSETFROM:-0700
TZOFFSETTO:-0700
TZNAME:MST
DTSTART:20230101T000000
END:STANDARD
END:VTIMEZONE
BEGIN:VEVENT
DTSTART;VALUE=DATE:20240306
DTEND;VALUE=DATE:20240308
DTSTAMP:20260425T083508
CREATED:20231127T185214Z
LAST-MODIFIED:20240124T181859Z
UID:16772-1709683200-1709855999@broadwayintucson.com
SUMMARY:Shrek the Musical
DESCRIPTION:Fall in love all OGRE again!\n“Once upon a time\, there was a little ogre named Shrek…” And thus begins the tale of an unlikely hero who ﬁnds himself on a life-changing journey alongside a wisecracking Donkey and a feisty princess who resists her rescue. Yes\, your favorite ogre is back in the hilarious stage spectacle based on the Oscar®-winning\, smash-hit DreamWorks animated ﬁlm. This Tony Award®-winning fairy tale musical adventure features songs from Jeanine Tesori (Kimberly Akimbo; Caroline\, or Change)\, a sidesplitting book by Pulitzer Prize winner David Lindsay-Abaire (Kimberly Akimbo) and brings all the beloved characters you know from the ﬁlm to life. USA Today raves\, “Altogether irresistible!” You’ll be a “believer” too as there’s more to the story than meets the ears. \n\n\n\n\n\n\n\n\n\n\n\n\n\nPurchase Tickets\n\n\n\n\n\n\n\n\n\n\n\n\nDateStart TimeWednesday\, March 67:30 PMThursday\, March 77:30 PM
URL:https://broadwayintucson.com/event/shrek-the-musical/
LOCATION:Centennial Hall\, 1020 E. University Blvd.\, Tucson\, AZ\, 85721\, United States
CATEGORIES:Program
ATTACH;FMTTYPE=image/jpeg:https://broadwayintucson.com/wp-content/uploads/2023/11/SHREK_KeyArt_Horizontal-scaled.jpg
ORGANIZER;CN="Broadway in Tucson":MAILTO:info@broadwayintucson.com
END:VEVENT
END:VCALENDAR