BEGIN:VCALENDAR
VERSION:2.0
PRODID:-//Broadway in Tucson - ECPv6.15.20//NONSGML v1.0//EN
CALSCALE:GREGORIAN
METHOD:PUBLISH
X-ORIGINAL-URL:https://broadwayintucson.com
X-WR-CALDESC:Events for Broadway in Tucson
REFRESH-INTERVAL;VALUE=DURATION:PT1H
X-Robots-Tag:noindex
X-PUBLISHED-TTL:PT1H
BEGIN:VTIMEZONE
TZID:America/Phoenix
BEGIN:STANDARD
TZOFFSETFROM:-0700
TZOFFSETTO:-0700
TZNAME:MST
DTSTART:20220101T000000
END:STANDARD
END:VTIMEZONE
BEGIN:VEVENT
DTSTART;VALUE=DATE:20231128
DTEND;VALUE=DATE:20231204
DTSTAMP:20260425T191336
CREATED:20230310T070419Z
LAST-MODIFIED:20230918T162822Z
UID:16407-1701129600-1701647999@broadwayintucson.com
SUMMARY:AIN’T TOO PROUD: The Life and Times of The Temptations
DESCRIPTION:(L – R)- Marcus Paul James\, Jalen Harris\, Elijah Ahmad Lewis\, Harrell Holmes Jr.\, James T. Lane from the National Touring Company of AIN’T TOO PROUD: The Life and Times of The Temptations. Credit: © 2021 Emilio Madrid. \n\n\n\nAIN’T TOO PROUD: The Life and Times of The Temptations is the electrifying\, new smash-hit Broadway musical that follows The Temptations’ extraordinary journey from the streets of Detroit to the Rock & Roll Hall of Fame. With their signature dance moves and silky-smooth harmonies\, they rose to the top of the charts creating an amazing 42 Top Ten Hits with 14 reaching number one. \n\n\nNominated for 12 Tony® Awards and the winner of the 2019 Tony Award for Best Choreography\, Ain’t Too Proud tells the thrilling story of brotherhood\, family\, loyalty\, and betrayal\, as the group’s personal and political conflicts threatened to tear them apart during a decade of civil unrest in America.  \n\n\nWritten by three-time Obie Award winner Dominique Morisseau\, directed by two-time Tony Award winner Des McAnuff (Jersey Boys)\, and featuring the Tony-winning choreography of Sergio Trujillo (Jersey Boys\, On Your Feet!)\, the unforgettable story of this legendary quintet is set to the beat of the group’s treasured hits\, including “My Girl\,” “Just My Imagination\,” “Get Ready\,” “Papa Was a Rolling Stone\,” and so many more. \n\n\n\n\n\nPurchase Tickets\nPerformance ScheduleDateStart TimeTuesday\, November 287:30 PMWednesday\, November 297:30 PMThursday\, November 307:30 PMFriday\, December 18 PMSaturday\, December 22 PM(ASL Interpreted Performance)Saturday\, December 28 PMSunday\, December 31 PM Sunday\, December 36:30 PM(Open Caption)
URL:https://broadwayintucson.com/event/aint-too-proud/
LOCATION:Centennial Hall\, 1020 E. University Blvd.\, Tucson\, AZ\, 85721\, United States
CATEGORIES:Program
ATTACH;FMTTYPE=image/jpeg:https://broadwayintucson.com/wp-content/uploads/2023/09/Photo-1-scaled-1.jpg
ORGANIZER;CN="Broadway in Tucson":MAILTO:info@broadwayintucson.com
END:VEVENT
END:VCALENDAR